BEGIN:VCALENDAR
PRODID:-//eluceo/ical//2.0/EN
VERSION:2.0
CALSCALE:GREGORIAN
BEGIN:VEVENT
UID:998fae784ce2276485b894d54a932575
DTSTAMP:20260419T203737Z
SUMMARY:High Holiday Children's Services at CSI
DESCRIPTION:Jewish Federation & Foundation of Rockland County\nCommunity Ca
 lendar\nhttps://jewishrockland.org/calendar/high-holiday-childrens-service
 s-at-csi-10-12\n\nHigh Holiday Children’s Services at CSI\nCongregation 
 Sons of Israel\n300 North Broadway\, Upper Nyack\, NY 10960\nPlease join C
 SI children services for Rosh Hashana and Yom Kippur\nRosh Hashanah Oct. 3
  and 4 and Yom Kippur Oct. 12\n– 3 yr. olds 11 am with family member\n4 
 – 7 yr. olds 11 am with family member\n8 – 12 yr. olds 11 am can come 
 alone.\nShofar will be blown at each service\nFor more information contact
  us at 845-358-3767 or csioffice@optonline.net\nFor High Holiday Tickets\,
 ...
DTSTART;TZID=America/New_York:20161012T110000
DTEND;TZID=America/New_York:20161012T110000
END:VEVENT
END:VCALENDAR
