BEGIN:VCALENDAR
PRODID:-//eluceo/ical//2.0/EN
VERSION:2.0
CALSCALE:GREGORIAN
BEGIN:VEVENT
UID:e0bf417754103e9a137795edd5e5da35
DTSTAMP:20260422T194603Z
SUMMARY:Hillel of Rockland Chanukah Unity Concert: 8th Day
DESCRIPTION:Jewish Federation & Foundation of Rockland County\nCommunity Ca
 lendar\nhttps://jewishrockland.org/calendar/hillel-rockland-chanukah-unity
 -concert-8th-day\n\nHillel of Rockland presents a Chanukah family concert 
 with 8th Day\, a band co-founded by California brothers Shmuel and Bentzi 
 Marcus\, one of Jewish music's hottest acts. The concert will feature hits
  from their latest release\, "Inner Flame\," and of course their mega YouT
 ube hit\, "Ya'alili." 8th Day's fresh and unique sound is complemented by 
 their catchy lyrics (mostly English with some Hebrew and Yiddish mixed in)
  and their spirited vocal harmonies. They have played hundreds of shows ac
 ross...
DTSTART;TZID=America/New_York:20161229T193000
DTEND;TZID=America/New_York:20161229T220000
END:VEVENT
END:VCALENDAR
