BEGIN:VCALENDAR
PRODID:-//eluceo/ical//2.0/EN
VERSION:2.0
CALSCALE:GREGORIAN
BEGIN:VEVENT
UID:7d1826f23b0689664b504412116f5f40
DTSTAMP:20260422T025544Z
SUMMARY:HMCTE Annual Benefit Brunch
DESCRIPTION:Jewish Federation & Foundation of Rockland County\nCommunity Ca
 lendar\nhttps://jewishrockland.org/calendar/hmcte-annual-benefit-brunch-17
 54473890\n\nHMCTE Annual Benefit Brunch
DTSTART;TZID=America/New_York:20260531T100000
DTEND;TZID=America/New_York:20260531T120000
END:VEVENT
END:VCALENDAR
