BEGIN:VCALENDAR
PRODID:-//eluceo/ical//2.0/EN
VERSION:2.0
CALSCALE:GREGORIAN
BEGIN:VEVENT
UID:2d6f4a019eeb08c2fdaa9521621d8215
DTSTAMP:20260419T185243Z
SUMMARY:HMCTE Run for the six
DESCRIPTION:Jewish Federation & Foundation of Rockland County\nCommunity Ca
 lendar\nhttps://jewishrockland.org/calendar/hmcte-run-for-the-six-16663863
 46\n\nHMCTE Run for the six
DTSTART;TZID=America/New_York:20230910T090000
DTEND;TZID=America/New_York:20230910T110000
END:VEVENT
END:VCALENDAR
