BEGIN:VCALENDAR
PRODID:-//eluceo/ical//2.0/EN
VERSION:2.0
CALSCALE:GREGORIAN
BEGIN:VEVENT
UID:8a14f31eb672927d7c813ed178932210
DTSTAMP:20260421T180406Z
SUMMARY:HMSC Distinguished Lecture: Abe Foxman
DESCRIPTION:Jewish Federation & Foundation of Rockland County\nCommunity Ca
 lendar\nhttps://jewishrockland.org/calendar/hmsc-distinguished-lecture-abe
 -foxman-61950\n\nThe Holocaust Museum & Study Center is proud to be hostin
 g a distinguished lecture by Abraham H. Foxman\, the National Director of 
 the Anti-Defamation League.\n\nAnti-Defamation League organizes programs i
 n order to combat anti-Semitism\, hatred and bigotry throughout the world.
  Mr. Foxman has dedicated his career to promoting democracy\, peace and ac
 ceptance. \n\nThe Holocaust Museum & Study Center is honored to present th
 e opportunity for members of Rockland County to hear Mr. Foxman speak abo.
 ..
DTSTART;TZID=America/New_York:20140504T130000
DTEND;TZID=America/New_York:20140504T140000
END:VEVENT
END:VCALENDAR
