BEGIN:VCALENDAR
PRODID:-//eluceo/ical//2.0/EN
VERSION:2.0
CALSCALE:GREGORIAN
BEGIN:VEVENT
UID:488298f8cce25b603618fb3dab301187
DTSTAMP:20260423T111735Z
SUMMARY:Holiday Boutique 2015
DESCRIPTION:Jewish Federation & Foundation of Rockland County\nCommunity Ca
 lendar\nhttps://jewishrockland.org/calendar/holiday-boutique-2015\n\nHolid
 ay Boutique
DTSTART;TZID=America/New_York:20151115T000000
DTEND;TZID=America/New_York:20151119T000000
END:VEVENT
END:VCALENDAR
