BEGIN:VCALENDAR
PRODID:-//eluceo/ical//2.0/EN
VERSION:2.0
CALSCALE:GREGORIAN
BEGIN:VEVENT
UID:06112c062948221254c06ed13339d3af
DTSTAMP:20260424T031347Z
SUMMARY:Holiday Boutique
DESCRIPTION:Jewish Federation & Foundation of Rockland County\nCommunity Ca
 lendar\nhttps://jewishrockland.org/calendar/holiday-boutique-86111\n\nJewe
 lry - Clothing - Pocketbooks - Art - More!\nMonday - Thursday\, Dec 1-4\nS
 unday\, Dec 7
DTSTART;TZID=America/New_York:20141201T100000
DTEND;TZID=America/New_York:20141207T170000
END:VEVENT
END:VCALENDAR
