BEGIN:VCALENDAR
PRODID:-//eluceo/ical//2.0/EN
VERSION:2.0
CALSCALE:GREGORIAN
BEGIN:VEVENT
UID:bdca2905503c29edbeb050cd6502fa23
DTSTAMP:20260422T205818Z
SUMMARY:Holocaust Museum & Center for Tolerance and Education Annual Benefi
 t
DESCRIPTION:Jewish Federation & Foundation of Rockland County\nCommunity Ca
 lendar\nhttps://jewishrockland.org/calendar/holocaust-museum--center-for-t
 olerance-and-education-annual-benefit-1544635240\n\nAnnual Benefit
DTSTART;TZID=America/New_York:20190915T103000
DTEND;TZID=America/New_York:20190915T123000
END:VEVENT
END:VCALENDAR
