BEGIN:VCALENDAR
PRODID:-//eluceo/ical//2.0/EN
VERSION:2.0
CALSCALE:GREGORIAN
BEGIN:VEVENT
UID:1ca1a3d3350432ec7e84c2c3d697f8cb
DTSTAMP:20260421T134507Z
SUMMARY:Holocaust Museum & Study Center Annual Benefit Brunch
DESCRIPTION:Jewish Federation & Foundation of Rockland County\nCommunity Ca
 lendar\nhttps://jewishrockland.org/calendar/holocaust-museum--study-center
 -annual-benefit-brunch\n\nHMSC Annual Benefit Brunch
DTSTART;TZID=America/New_York:20131103T103000
DTEND;TZID=America/New_York:20131103T133000
END:VEVENT
END:VCALENDAR
