BEGIN:VCALENDAR
PRODID:-//eluceo/ical//2.0/EN
VERSION:2.0
CALSCALE:GREGORIAN
BEGIN:VEVENT
UID:ed6c2dbf0ece1363879ea1f0a5d5d43c
DTSTAMP:20260422T083823Z
SUMMARY:Holocaust Museum & Study Center evening with Tomasz Kuncewicz\, cha
 irman of 
DESCRIPTION:Jewish Federation & Foundation of Rockland County\nCommunity Ca
 lendar\nhttps://jewishrockland.org/calendar/holocaust-museum--study-center
 -evening-with-tomasz-kuncewicz-chairman-of-auschwitz-jewish-center\n\nToma
 sz Kuncewicz - Holocaust Museum & Study Center
DTSTART;TZID=America/New_York:20130530T183000
DTEND;TZID=America/New_York:20130530T203000
END:VEVENT
END:VCALENDAR
