BEGIN:VCALENDAR
PRODID:-//eluceo/ical//2.0/EN
VERSION:2.0
CALSCALE:GREGORIAN
BEGIN:VEVENT
UID:45f6bd2986e51b7e85a127a5dd687c1a
DTSTAMP:20260426T024908Z
SUMMARY:Holocaust Museum Annual Benefit Brunch 2017
DESCRIPTION:Jewish Federation & Foundation of Rockland County\nCommunity Ca
 lendar\nhttps://jewishrockland.org/calendar/holocaust-museum-annual-benefi
 t-brunch-2017\n\nSave the date for the Holocaust Museum's Annual Benefit B
 runch. Details to come.\n\nHonoring Sam and Barbara Weinberger and Paul
  Galan\nGuest Speaker Dr. Menhaz Afridi\n\n 
DTSTART;TZID=America/New_York:20171105T110000
DTEND;TZID=America/New_York:20171105T130000
END:VEVENT
END:VCALENDAR
