BEGIN:VCALENDAR
PRODID:-//eluceo/ical//2.0/EN
VERSION:2.0
CALSCALE:GREGORIAN
BEGIN:VEVENT
UID:563eec4385f124bcc90cbba793084fa7
DTSTAMP:20260420T110247Z
SUMMARY:The Holocaust Museum's Community-Wide Yom Ha Shoah Commemoration
DESCRIPTION:Jewish Federation & Foundation of Rockland County\nCommunity Ca
 lendar\nhttps://jewishrockland.org/calendar/holocaust-museum-community-wid
 e-yom-ha-shoah-2017\n\nThe Holocaust Museum's Annual Yom Ha Shoah Commemor
 ation. Visit www.holocauststudies.org for more information.
DTSTART;TZID=America/New_York:20170423T170000
DTEND;TZID=America/New_York:20170423T190000
END:VEVENT
END:VCALENDAR
