BEGIN:VCALENDAR
PRODID:-//eluceo/ical//2.0/EN
VERSION:2.0
CALSCALE:GREGORIAN
BEGIN:VEVENT
UID:a2e470b01b96e71b4a32e878401c9e16
DTSTAMP:20260424T143502Z
SUMMARY:Cooking Demo to Benefit The Holocaust Museum
DESCRIPTION:Jewish Federation & Foundation of Rockland County\nCommunity Ca
 lendar\nhttps://jewishrockland.org/calendar/holocaust-museum-cooking-demo\
 n\nA cooking demo and tasting with Chef Rachel Harkham. On the menu is Mix
 ed Fruit Sangria\, Watermelon Feta Salad and Traditional NY Cheesecake. Pl
 ease join us! RSVP to hillary@holocauststudies.org.\n\nCouvert: $36 to ben
 efit to Holocaust Museum & Center for Tolerance and Education\n\nPrivate R
 esidence in Suffern\, NY
DTSTART;TZID=America/New_York:20150520T190000
DTEND;TZID=America/New_York:20150520T210000
END:VEVENT
END:VCALENDAR
