BEGIN:VCALENDAR
PRODID:-//eluceo/ical//2.0/EN
VERSION:2.0
CALSCALE:GREGORIAN
BEGIN:VEVENT
UID:abc4a8f4e1fbcce3ee6df07dc81b5b85
DTSTAMP:20260423T161135Z
SUMMARY:Holocaust Museum Community-wide Yom HaShoah Commemoration
DESCRIPTION:Jewish Federation & Foundation of Rockland County\nCommunity Ca
 lendar\nhttps://jewishrockland.org/calendar/holocaust-museum-yom-hashoah-2
 016\n\nCommunity wide Yom Ha Shoah Commemoration at Rockland Community Col
 lege
DTSTART;TZID=America/New_York:20160501T170000
DTEND;TZID=America/New_York:20160501T190000
END:VEVENT
END:VCALENDAR
