BEGIN:VCALENDAR
PRODID:-//eluceo/ical//2.0/EN
VERSION:2.0
CALSCALE:GREGORIAN
BEGIN:VEVENT
UID:7d6aeec4c28a0c7fa1d645d832772ac5
DTSTAMP:20260421T120017Z
SUMMARY:How Leket Israel is Helping to Feed the Hungry in Israel
DESCRIPTION:Jewish Federation & Foundation of Rockland County\nCommunity Ca
 lendar\nhttps://jewishrockland.org/calendar/how-leket-israel-is-helping-to
 -feed-the-hungry-in-israel-56003\n\nHow Leket Israel is Helping Feed the H
 ungry
DTSTART;TZID=America/New_York:20140226T193000
DTEND;TZID=America/New_York:20140226T210000
END:VEVENT
END:VCALENDAR
