BEGIN:VCALENDAR
PRODID:-//eluceo/ical//2.0/EN
VERSION:2.0
CALSCALE:GREGORIAN
BEGIN:VEVENT
UID:21f6a1f037406aef3f0549954b8a3762
DTSTAMP:20260422T053551Z
SUMMARY:Hudson Valley Region FJMC Man & Youth of the Year Luncheon
DESCRIPTION:Jewish Federation & Foundation of Rockland County\nCommunity Ca
 lendar\nhttps://jewishrockland.org/calendar/hudson-valley-region-fjmc-man-
 youth-of-the-year-luncheon-2019\n\nThe Hudson Valley Region of the Federat
 ion of Jewish Men's Clubs will be honoring individuals from Conservative S
 ynagogues in Rockland\, Westchester\, and Orange Counties.
DTSTART;TZID=America/New_York:20190505T130000
DTEND;TZID=America/New_York:20190505T160000
END:VEVENT
END:VCALENDAR
