BEGIN:VCALENDAR
PRODID:-//eluceo/ical//2.0/EN
VERSION:2.0
CALSCALE:GREGORIAN
BEGIN:VEVENT
UID:0c7e90bf2d3c9641dd744da89e934676
DTSTAMP:20260423T190650Z
SUMMARY:Hunting Elephants: JCC Rockland Jewish Film Festival
DESCRIPTION:Jewish Federation & Foundation of Rockland County\nCommunity Ca
 lendar\nhttps://jewishrockland.org/calendar/hunting-elephants-jcc-rockland
 -jewish-film-festival\n\nOpening Night Film: Sir Patrick Stewart and an im
 pressive cast of Israeli top talent give bravura comic turns in Hunting El
 ephants\, a bank heist caper and coming-of-age tale. Hunting Elephants Di
 rected by Reshef Levi Israel\, USA\, 2013\; 107 minutes\; Hebrew and Engli
 sh with subtitles.\n\n \n\nTime:\n07:30 PM to 10:00 PM\n\nLocation:\nAMC 
 Theatres at Palisades Center Mall\,\n1000 Palisades Center Drive\,\nWest N
 yack\, NY\, 10994\n\nContact:\nHani Sandler\,\nPhone: 845-362-4400\nFax: 
 845-362-5107\nha...
DTSTART;TZID=America/New_York:20140319T193000
DTEND;TZID=America/New_York:20140319T220000
END:VEVENT
END:VCALENDAR
