BEGIN:VCALENDAR
PRODID:-//eluceo/ical//2.0/EN
VERSION:2.0
CALSCALE:GREGORIAN
BEGIN:VEVENT
UID:edb0188230eb6b19774e7aac0ac23f32
DTSTAMP:20260421T152522Z
SUMMARY:In honor of MLK- Anti Racism and the Jewish American Experience
DESCRIPTION:Jewish Federation & Foundation of Rockland County\nCommunity Ca
 lendar\nhttps://jewishrockland.org/calendar/in-honor-of-mlk--anti-racism-a
 nd-the-jewish-american-experience-1640807903\n\nUsing the 1968 Teacher&#03
 9\;s strike Erin Santana will draw parallels to similar generational divid
 es within the Jewish community on contemporary issues\, such as the Black 
 Lives Matter movement.
DTSTART;TZID=America/New_York:20220116T190000
DTEND;TZID=America/New_York:20220116T213000
END:VEVENT
END:VCALENDAR
