BEGIN:VCALENDAR
PRODID:-//eluceo/ical//2.0/EN
VERSION:2.0
CALSCALE:GREGORIAN
BEGIN:VEVENT
UID:f55dd398a085d78145ac3741ffe7fae1
DTSTAMP:20260421T100837Z
SUMMARY:Inclusion Program at CSI\, Nyack
DESCRIPTION:Jewish Federation & Foundation of Rockland County\nCommunity Ca
 lendar\nhttps://jewishrockland.org/calendar/inclusion-program-at-csi-nyack
 -1440351638\n\nWednesday\, October 21\, 7 p.m. Inclusion Program at CSI\, 
 Nyack\nPam Schuller\, internationally known inclusion advocate will be wor
 king with CSI\, Nyack Hebrew School children from\n5:15-6:15 pm and will g
 ive her keynote address at 7 pm. The keynote address is open to the public
 . Suggested donation $5 RSVPs requested to the office. Congregation Sons o
 f Israel\, 300 N. Broadway\, Upper Nyack\, NY 10960. For more information 
 contact us at 845-358-3767 or csioffice@optonline.net
DTSTART;TZID=America/New_York:20151021T190000
DTEND;TZID=America/New_York:20151021T210000
END:VEVENT
END:VCALENDAR
