BEGIN:VCALENDAR
PRODID:-//eluceo/ical//2.0/EN
VERSION:2.0
CALSCALE:GREGORIAN
BEGIN:VEVENT
UID:d4d1d6158888fb20c9785c6286707438
DTSTAMP:20260420T044030Z
SUMMARY:Insights into the Haggadah at Congregation Shaarey Israel
DESCRIPTION:Jewish Federation & Foundation of Rockland County\nCommunity Ca
 lendar\nhttps://jewishrockland.org/calendar/insights-into-the-haggadah-at-
 congregation-shaarey-israel-1427301754-139764\n\nInsights into the Haggada
 h with Rabbi Reuven Stengel\, Part I. Come join Rabbi Stengel\, a scholar 
 and dynamic lecturer as he brings the timeless text of the Haggadah alive.
  This is an event sure to enhance your Passover experience.
DTSTART;TZID=America/New_York:20150331T190000
DTEND;TZID=America/New_York:20150331T200000
END:VEVENT
END:VCALENDAR
