BEGIN:VCALENDAR
PRODID:-//eluceo/ical//2.0/EN
VERSION:2.0
CALSCALE:GREGORIAN
BEGIN:VEVENT
UID:5fab08b97bc6d7203349e7e1df5d7500
DTSTAMP:20260420T213633Z
SUMMARY:International Holocaust Remembrance Day Event
DESCRIPTION:Jewish Federation & Foundation of Rockland County\nCommunity Ca
 lendar\nhttps://jewishrockland.org/calendar/international-holocaust-rememb
 rance-day-event-1570103114\n\nInternational Holocaust Remembrance Day Even
 t
DTSTART;TZID=America/New_York:20200127T190000
DTEND;TZID=America/New_York:20200127T210000
END:VEVENT
END:VCALENDAR
