BEGIN:VCALENDAR
PRODID:-//eluceo/ical//2.0/EN
VERSION:2.0
CALSCALE:GREGORIAN
BEGIN:VEVENT
UID:a80bfa0a1c94ddbd1e9aff3846efd5eb
DTSTAMP:20260425T230849Z
SUMMARY:Introduction to Judaism 101 at CSI
DESCRIPTION:Jewish Federation & Foundation of Rockland County\nCommunity Ca
 lendar\nhttps://jewishrockland.org/calendar/introduction-to-judaism-101-at
 -csi-feb\n\nJoin Rabbi Russo on a journey covering the most important topi
 cs that every Jew (and non-Jew) should know about Judaism!
DTSTART;TZID=America/New_York:20250206T200000
DTEND;TZID=America/New_York:20250206T213000
END:VEVENT
END:VCALENDAR
