BEGIN:VCALENDAR
PRODID:-//eluceo/ical//2.0/EN
VERSION:2.0
CALSCALE:GREGORIAN
BEGIN:VEVENT
UID:522173ea3d95b0ba2c343ff2a73c02f3
DTSTAMP:20260422T170532Z
SUMMARY:Israel @ 75 - NYC Parade
DESCRIPTION:Jewish Federation & Foundation of Rockland County\nCommunity Ca
 lendar\nhttps://jewishrockland.org/calendar/israel--75---nyc-parade-168366
 6181\n\nRenewing the Hope - the theme of this year's annual Israel Day Par
 ade\, from 57th to 74th Streets on 5th Avenue. View it live at 12 noon on 
 Fox's My9 OR on CelebrateIsraelNY.org.
DTSTART;TZID=America/New_York:20230604T110000
DTEND;TZID=America/New_York:20230604T160000
END:VEVENT
END:VCALENDAR
