BEGIN:VCALENDAR
PRODID:-//eluceo/ical//2.0/EN
VERSION:2.0
CALSCALE:GREGORIAN
BEGIN:VEVENT
UID:5afe00ba51ae9a19b2bfa4d427772b83
DTSTAMP:20260424T094542Z
SUMMARY:Israel Bonds & New City Jewish Center Breakfast
DESCRIPTION:Jewish Federation & Foundation of Rockland County\nCommunity Ca
 lendar\nhttps://jewishrockland.org/calendar/israel-bonds--new-city-jewish-
 center-breakfast-1546015115\n\nBreakfast with guest speaker
DTSTART;TZID=America/New_York:20190331T093000
DTEND;TZID=America/New_York:20190331T113000
END:VEVENT
END:VCALENDAR
