BEGIN:VCALENDAR
PRODID:-//eluceo/ical//2.0/EN
VERSION:2.0
CALSCALE:GREGORIAN
BEGIN:VEVENT
UID:a65ae97e646ff4bc02e7a31fb7437b1f
DTSTAMP:20260424T195659Z
SUMMARY:Israel Bonds New City Jewish Center Brunch
DESCRIPTION:Jewish Federation & Foundation of Rockland County\nCommunity Ca
 lendar\nhttps://jewishrockland.org/calendar/israel-bonds-new-city-jewish-c
 enter-brunch-12-2016-211849\n\nJoin us at New City Jewish Center for brunc
 h.
DTSTART;TZID=America/New_York:20161218T093000
DTEND;TZID=America/New_York:20161218T113000
END:VEVENT
END:VCALENDAR
