BEGIN:VCALENDAR
PRODID:-//eluceo/ical//2.0/EN
VERSION:2.0
CALSCALE:GREGORIAN
BEGIN:VEVENT
UID:ce9e0296ebb14b0d8e3a760b990b4587
DTSTAMP:20260422T121345Z
SUMMARY:Israel Bonds Rockland Community Brunch Reception
DESCRIPTION:Jewish Federation & Foundation of Rockland County\nCommunity Ca
 lendar\nhttps://jewishrockland.org/calendar/israel-bonds-rockland-communit
 y-brunch-reception\n\nIsrael Bonds Brunch Reception
DTSTART;TZID=America/New_York:20131124T101500
DTEND;TZID=America/New_York:20131124T120000
END:VEVENT
END:VCALENDAR
