BEGIN:VCALENDAR
PRODID:-//eluceo/ical//2.0/EN
VERSION:2.0
CALSCALE:GREGORIAN
BEGIN:VEVENT
UID:324dfd5a09df788bc0c2a308232670ae
DTSTAMP:20260424T181408Z
SUMMARY:Israel Bonds Rockland Council Meeting
DESCRIPTION:Jewish Federation & Foundation of Rockland County\nCommunity Ca
 lendar\nhttps://jewishrockland.org/calendar/israel-bonds-rockland-council-
 meeting-1513693629-256532\n\nIsrael Bonds Rockland Council Meeting
DTSTART;TZID=America/New_York:20180130T193000
DTEND;TZID=America/New_York:20180130T210000
END:VEVENT
END:VCALENDAR
