BEGIN:VCALENDAR
PRODID:-//eluceo/ical//2.0/EN
VERSION:2.0
CALSCALE:GREGORIAN
BEGIN:VEVENT
UID:ab5e31174ed5aa9caf24cd4a7f0fd1af
DTSTAMP:20260425T004924Z
SUMMARY:Israel Bonds-Friends of IDF Event
DESCRIPTION:Jewish Federation & Foundation of Rockland County\nCommunity Ca
 lendar\nhttps://jewishrockland.org/calendar/israel-bonds-rockland-friends-
 of-the-idf-event-1548187012\n\nIDF Lone Soldiers event
DTSTART;TZID=America/New_York:20190718T190000
DTEND;TZID=America/New_York:20190718T210000
END:VEVENT
END:VCALENDAR
