BEGIN:VCALENDAR
PRODID:-//eluceo/ical//2.0/EN
VERSION:2.0
CALSCALE:GREGORIAN
BEGIN:VEVENT
UID:503809366e984b14dcbced2846bf10e2
DTSTAMP:20260419T211759Z
SUMMARY:Israel Bonds Rockland Women's Division Canasta
DESCRIPTION:Jewish Federation & Foundation of Rockland County\nCommunity Ca
 lendar\nhttps://jewishrockland.org/calendar/israel-bonds-rockland-womens-d
 ivision-canasta-1595528534\n\nVirtual Canasta Game Day
DTSTART;TZID=America/New_York:20201202T103000
DTEND;TZID=America/New_York:20201202T153000
END:VEVENT
END:VCALENDAR
