BEGIN:VCALENDAR
PRODID:-//eluceo/ical//2.0/EN
VERSION:2.0
CALSCALE:GREGORIAN
BEGIN:VEVENT
UID:fb75672f9946a445e6930ae9b57b3e1f
DTSTAMP:20260421T232240Z
SUMMARY:Israel Bonds Rockland Women's Division Virtual Tour of Israel
DESCRIPTION:Jewish Federation & Foundation of Rockland County\nCommunity Ca
 lendar\nhttps://jewishrockland.org/calendar/israel-bonds-rockland-womens-d
 ivision-virtual-tour-of-israel-1594397573\n\nJoin us on a virtual tour of 
 Machane Yehuda and the Kotel
DTSTART;TZID=America/New_York:20200811T190000
DTEND;TZID=America/New_York:20200811T210000
END:VEVENT
END:VCALENDAR
