BEGIN:VCALENDAR
PRODID:-//eluceo/ical//2.0/EN
VERSION:2.0
CALSCALE:GREGORIAN
BEGIN:VEVENT
UID:5228e7188585485b4e9c550e2cde7917
DTSTAMP:20260425T025738Z
SUMMARY:Israel Bonds Women's Division Premiere Brunch
DESCRIPTION:Jewish Federation & Foundation of Rockland County\nCommunity Ca
 lendar\nhttps://jewishrockland.org/calendar/israel-bonds-womens-brunch-201
 8-248818\n\nPlease join us to honor special women from different organizat
 ions throughout our county.
DTSTART;TZID=America/New_York:20180121T093000
DTEND;TZID=America/New_York:20180121T113000
END:VEVENT
END:VCALENDAR
