BEGIN:VCALENDAR
PRODID:-//eluceo/ical//2.0/EN
VERSION:2.0
CALSCALE:GREGORIAN
BEGIN:VEVENT
UID:50d69064343a71d421472090173850a1
DTSTAMP:20260421T011936Z
SUMMARY:Israel Bonds Women's Division  Lila & Jules Stern  Premiere Brunch
DESCRIPTION:Jewish Federation & Foundation of Rockland County\nCommunity Ca
 lendar\nhttps://jewishrockland.org/calendar/israel-bonds-womens-division--
 lila--jules-stern--premiere-brunch-1643385468\n\nAnnual women's division b
 runch
DTSTART;TZID=America/New_York:20220522T100000
DTEND;TZID=America/New_York:20220522T113000
END:VEVENT
END:VCALENDAR
