BEGIN:VCALENDAR
PRODID:-//eluceo/ical//2.0/EN
VERSION:2.0
CALSCALE:GREGORIAN
BEGIN:VEVENT
UID:a83a1388e4a53ddbd04bc868af334430
DTSTAMP:20260422T175920Z
SUMMARY:Israel Bonds Women's Division Babies & Bonds
DESCRIPTION:Jewish Federation & Foundation of Rockland County\nCommunity Ca
 lendar\nhttps://jewishrockland.org/calendar/israel-bonds-womens-division-b
 abies--bonds-1645201353\n\nAn infant CPR class led by a certified instruct
 or
DTSTART;TZID=America/New_York:20220404T190000
DTEND;TZID=America/New_York:20220404T210000
END:VEVENT
END:VCALENDAR
