BEGIN:VCALENDAR
PRODID:-//eluceo/ical//2.0/EN
VERSION:2.0
CALSCALE:GREGORIAN
BEGIN:VEVENT
UID:207396aac96e8eb8012dc9c60e326dc0
DTSTAMP:20260419T194449Z
SUMMARY:Israel Bonds Women's Division Book Club
DESCRIPTION:Jewish Federation & Foundation of Rockland County\nCommunity Ca
 lendar\nhttps://jewishrockland.org/calendar/israel-bonds-womens-division-b
 ook-club-1535399711\n\nJoin us as we discuss Harpoon by Nitsana Darshan-Le
 itner & Samuel M. Katz.
DTSTART;TZID=America/New_York:20190124T073000
DTEND;TZID=America/New_York:20190124T210000
END:VEVENT
END:VCALENDAR
