BEGIN:VCALENDAR
PRODID:-//eluceo/ical//2.0/EN
VERSION:2.0
CALSCALE:GREGORIAN
BEGIN:VEVENT
UID:ff7f844cc19a372de6244b7ff7bd84eb
DTSTAMP:20260421T150126Z
SUMMARY:Israel Bonds Women's Division Book Club
DESCRIPTION:Jewish Federation & Foundation of Rockland County\nCommunity Ca
 lendar\nhttps://jewishrockland.org/calendar/israel-bonds-womens-division-b
 ook-club-1583772969\n\nPlease join us for a discussion of "Gateway to the 
 Moon" by Mary Morris
DTSTART;TZID=America/New_York:20200428T191500
DTEND;TZID=America/New_York:20200428T210000
END:VEVENT
END:VCALENDAR
