BEGIN:VCALENDAR
PRODID:-//eluceo/ical//2.0/EN
VERSION:2.0
CALSCALE:GREGORIAN
BEGIN:VEVENT
UID:b2721554394142dfd7ac0b854f3e4f7d
DTSTAMP:20260423T190554Z
SUMMARY:Israel Bonds Women's Division Israeli Café Night
DESCRIPTION:Jewish Federation & Foundation of Rockland County\nCommunity Ca
 lendar\nhttps://jewishrockland.org/calendar/israel-bonds-womens-division-i
 sraeli-caf-night-1433775158-148421\n\nPlease join us for a fun evening! Ra
 in date is August 5.
DTSTART;TZID=America/New_York:20150804T190000
DTEND;TZID=America/New_York:20150804T213000
END:VEVENT
END:VCALENDAR
