BEGIN:VCALENDAR
PRODID:-//eluceo/ical//2.0/EN
VERSION:2.0
CALSCALE:GREGORIAN
BEGIN:VEVENT
UID:211e8a699a6d244f1026d1d0531a7898
DTSTAMP:20260424T191919Z
SUMMARY:Israel Bonds Women's Division Israeli Cooking Event
DESCRIPTION:Jewish Federation & Foundation of Rockland County\nCommunity Ca
 lendar\nhttps://jewishrockland.org/calendar/israel-bonds-womens-division-i
 sraeli-cooking-event-1590525365\n\nShannon Sarna\, the Modern Jewish Baker
  will prepare pita\, hummus and Israeli salad
DTSTART;TZID=America/New_York:20200604T200000
DTEND;TZID=America/New_York:20200604T213000
END:VEVENT
END:VCALENDAR
