BEGIN:VCALENDAR
PRODID:-//eluceo/ical//2.0/EN
VERSION:2.0
CALSCALE:GREGORIAN
BEGIN:VEVENT
UID:f2e38eef59f64c018f89f30942d5a3d5
DTSTAMP:20260424T173143Z
SUMMARY:Israel Comes Alive at 65!
DESCRIPTION:Jewish Federation & Foundation of Rockland County\nCommunity Ca
 lendar\nhttps://jewishrockland.org/calendar/israel-comes-alive-at-65\n\nIs
 rael Comes Alive at 65!
DTSTART;TZID=America/New_York:20130416T100000
DTEND;TZID=America/New_York:20130416T120000
END:VEVENT
END:VCALENDAR
