BEGIN:VCALENDAR
PRODID:-//eluceo/ical//2.0/EN
VERSION:2.0
CALSCALE:GREGORIAN
BEGIN:VEVENT
UID:78b48e2ac89648c59e421904f1dffd49
DTSTAMP:20260424T221306Z
SUMMARY:Israel: Then and Now at CSI
DESCRIPTION:Jewish Federation & Foundation of Rockland County\nCommunity Ca
 lendar\nhttps://jewishrockland.org/calendar/israel-then-and-now-at-csi-172
 8177525\n\nIsrael Book Club facilitated by Michael Berkowitz. The discussi
 on course will include both historical overview of Israel as well as more 
 recent perspectives. We will be respectful and curious about all views to 
 facilitate open dialogue.\nBooks include Israel A Concise History of a Nat
 ion Reborn by Noa Tishby\, The Genius of Israel by Dan Senor and Saul Sing
 er\, A Women in Jerusalem by Isabel Kershner\, Letters to my Palestinian N
 eighbor by Yossi Klein Halevi\nMeets Sundays: 10:30 am-12:00 pm at...
DTSTART;TZID=America/New_York:20241208T103000
DTEND;TZID=America/New_York:20241208T120000
END:VEVENT
END:VCALENDAR
