BEGIN:VCALENDAR
PRODID:-//eluceo/ical//2.0/EN
VERSION:2.0
CALSCALE:GREGORIAN
BEGIN:VEVENT
UID:175b2be4ae02bb69da0ef550aa509fbb
DTSTAMP:20260422T105108Z
SUMMARY:Israel’s 4th Honor Day Delegation – “Together for Them”
DESCRIPTION:Jewish Federation & Foundation of Rockland County\nCommunity Ca
 lendar\nhttps://jewishrockland.org/calendar/israels-4th-honor-day-delegati
 on-together-for-them\n\nPlease join us at Nanuet Hebrew Center on Wednesda
 y\, November 29th for a special ATID/USY Connection: Israel’s 4th Honor 
 Day Delegation – “Together for Them”. \n\nCome and meet an Israeli V
 eteran\, hear his story\, and what he has to be thankful for.  \n\nAll 8th
  to 12th grade students\, their parents\, family and friends are encourage
 d to attend. \n\nPlus\, everyone else is welcome!\n\n Please arrive at 6pm
 .  Program will start promptly at 6:15pm. Suggested donation: $10/person. 
 \n\nRSVP...
DTSTART;TZID=America/New_York:20171129T180000
DTEND;TZID=America/New_York:20171129T193000
END:VEVENT
END:VCALENDAR
