BEGIN:VCALENDAR
PRODID:-//eluceo/ical//2.0/EN
VERSION:2.0
CALSCALE:GREGORIAN
BEGIN:VEVENT
UID:260b9aefce47e0a06cd370fbf76f1cc6
DTSTAMP:20260423T114249Z
SUMMARY:It's My Life and My Choice\, Right?
DESCRIPTION:Jewish Federation & Foundation of Rockland County\nCommunity Ca
 lendar\nhttps://jewishrockland.org/calendar/its-my-life-and-my-choice-righ
 t\n\nJoin the National Council of Jewish Women\, Rockland Secton on Septem
 ber 10\, 2014 when Mary Lou Dillon from Georgetown University will speak a
 bout Bioethics and who directs a patient’s care decisions.  Location: Te
 mple Beth El\, 415 Viola Rd.\, Spring Valley. Free\, Open to the Public\, 
 Refreshments.
DTSTART;TZID=America/New_York:20140910T193000
DTEND;TZID=America/New_York:20140910T213000
END:VEVENT
END:VCALENDAR
