BEGIN:VCALENDAR
PRODID:-//eluceo/ical//2.0/EN
VERSION:2.0
CALSCALE:GREGORIAN
BEGIN:VEVENT
UID:42d67ba5b079864d9b74f1910a5931f0
DTSTAMP:20260424T044025Z
SUMMARY:JCC Rockland Arts\, Book and Culture Author Event
DESCRIPTION:Jewish Federation & Foundation of Rockland County\nCommunity Ca
 lendar\nhttps://jewishrockland.org/calendar/jcc-arts-book-and-culture-auth
 or-event-11-17\n\nArts\, Book and Culture Author Event\; visit jccrockland
 .org for more information.
DTSTART;TZID=America/New_York:20161117T190000
DTEND;TZID=America/New_York:20161117T200000
END:VEVENT
END:VCALENDAR
