BEGIN:VCALENDAR
PRODID:-//eluceo/ical//2.0/EN
VERSION:2.0
CALSCALE:GREGORIAN
BEGIN:VEVENT
UID:51f5e7c62f6045ef361b7e099c32d3cf
DTSTAMP:20260424T135352Z
SUMMARY:JCC Arts Books and Culture Event - Author  Bryan Mark Rigg
DESCRIPTION:Jewish Federation & Foundation of Rockland County\nCommunity Ca
 lendar\nhttps://jewishrockland.org/calendar/jcc-arts-books-culture-bryan-m
 ark-rigg\n\nJoin us as Bryan Mark Rigg discusses his new book\, The Rabbi 
 Saved by Hitler’s Jewish Soldiers - Rebbe Joseph Isaac Schneersohn and H
 is Astonishing Rescue 
DTSTART;TZID=America/New_York:20171107T070000
DTEND;TZID=America/New_York:20171107T220000
END:VEVENT
END:VCALENDAR
