BEGIN:VCALENDAR
PRODID:-//eluceo/ical//2.0/EN
VERSION:2.0
CALSCALE:GREGORIAN
BEGIN:VEVENT
UID:2411afc64bd70d560c75b85da2198e47
DTSTAMP:20260419T174016Z
SUMMARY:JCC Arts Books and Culture Event - Author  Dina Gold
DESCRIPTION:Jewish Federation & Foundation of Rockland County\nCommunity Ca
 lendar\nhttps://jewishrockland.org/calendar/jcc-arts-books-culture-dina-go
 ld\n\nJoin Noah Isenberg as he discusses his book We'll Always Have Casabl
 anca: The Life\, Legend\, and Afterlife of Hollywood's Most Beloved Movie.
DTSTART;TZID=America/New_York:20171203T150000
DTEND;TZID=America/New_York:20171203T170000
END:VEVENT
END:VCALENDAR
