BEGIN:VCALENDAR
PRODID:-//eluceo/ical//2.0/EN
VERSION:2.0
CALSCALE:GREGORIAN
BEGIN:VEVENT
UID:20d4d0e1e20ca9c897249d3eea4b27d5
DTSTAMP:20260422T112444Z
SUMMARY:JCC Arts Books and Culture Event - Author  Jean Chatzky
DESCRIPTION:Jewish Federation & Foundation of Rockland County\nCommunity Ca
 lendar\nhttps://jewishrockland.org/calendar/jcc-arts-books-culture-jean-ch
 atzky\n\nJoin Today Show financial expert\, Jean Chatzky\, as she discusse
 s her book  AgeProof: Living Longer Without Running Out of Money or Breaki
 ng a Hip.
DTSTART;TZID=America/New_York:20171130T190000
DTEND;TZID=America/New_York:20171130T220000
END:VEVENT
END:VCALENDAR
