BEGIN:VCALENDAR
PRODID:-//eluceo/ical//2.0/EN
VERSION:2.0
CALSCALE:GREGORIAN
BEGIN:VEVENT
UID:be586cafef2bc35054a872137811ffb2
DTSTAMP:20260421T135305Z
SUMMARY:JCC Arts Books and Culture Event - Author  Peter Gethers
DESCRIPTION:Jewish Federation & Foundation of Rockland County\nCommunity Ca
 lendar\nhttps://jewishrockland.org/calendar/jcc-arts-books-culture-peter-g
 ethers\n\nJoin Peter Gethers as he discusses his book "My Mother's Kitchen
 "  
DTSTART;TZID=America/New_York:20171118T190000
DTEND;TZID=America/New_York:20171118T220000
END:VEVENT
END:VCALENDAR
