BEGIN:VCALENDAR
PRODID:-//eluceo/ical//2.0/EN
VERSION:2.0
CALSCALE:GREGORIAN
BEGIN:VEVENT
UID:7917f5aa69d60955f524184d7f4c0bc7
DTSTAMP:20260422T145640Z
SUMMARY:JCC Chazen Jazz Concert
DESCRIPTION:Jewish Federation & Foundation of Rockland County\nCommunity Ca
 lendar\nhttps://jewishrockland.org/calendar/jcc-chazen-jazz-concert\n\nJCC
  Chazen Jazz Concert
DTSTART;TZID=America/New_York:20131026T200000
DTEND;TZID=America/New_York:20131026T203000
END:VEVENT
END:VCALENDAR
