BEGIN:VCALENDAR
PRODID:-//eluceo/ical//2.0/EN
VERSION:2.0
CALSCALE:GREGORIAN
BEGIN:VEVENT
UID:88de7eec2427232ade433638c9fb1b6f
DTSTAMP:20260422T113518Z
SUMMARY:JCC Children and Family Community Yom  Ha'Atzmaut Celebration
DESCRIPTION:Jewish Federation & Foundation of Rockland County\nCommunity Ca
 lendar\nhttps://jewishrockland.org/calendar/jcc-children-and-family-commun
 ity-yom--haatzmaut-celebration-1736273212\n\nCelebrate Israel with fun act
 ivities\, food\, music\, and more!
DTSTART;TZID=America/New_York:20250504T140000
DTEND;TZID=America/New_York:20250504T160000
END:VEVENT
END:VCALENDAR
