BEGIN:VCALENDAR
PRODID:-//eluceo/ical//2.0/EN
VERSION:2.0
CALSCALE:GREGORIAN
BEGIN:VEVENT
UID:95c3a4e9e88a64a62644a30fb2ad22b8
DTSTAMP:20260423T043232Z
SUMMARY:JCC Cultural Arts Series - Gail Sheehy
DESCRIPTION:Jewish Federation & Foundation of Rockland County\nCommunity Ca
 lendar\nhttps://jewishrockland.org/calendar/jcc-cultural-arts-series-gail-
 sheehy-80130\n\nInternational women's and human rights advocate\, Gail She
 ehy\, author of 14 books\, the most recent: "Daring". Sheehy has written f
 or New York Magazine\, The Daily Beast\, Huffington Post and others.
DTSTART;TZID=America/New_York:20150324T193000
DTEND;TZID=America/New_York:20150324T220000
END:VEVENT
END:VCALENDAR
