BEGIN:VCALENDAR
PRODID:-//eluceo/ical//2.0/EN
VERSION:2.0
CALSCALE:GREGORIAN
BEGIN:VEVENT
UID:e6e72aa1a973b410d3fb788ee8d7d62d
DTSTAMP:20260419T123048Z
SUMMARY:JCC Family Bingo Night
DESCRIPTION:Jewish Federation & Foundation of Rockland County\nCommunity Ca
 lendar\nhttps://jewishrockland.org/calendar/jcc-family-bingo-night\n\nJCC 
 Family Bingo Night
DTSTART;TZID=America/New_York:20140208T183000
DTEND;TZID=America/New_York:20140208T203000
END:VEVENT
END:VCALENDAR
